BEGIN:VCALENDAR
VERSION:2.0
CREATED:20260423T213125Z
PRODID:-//Grove Collaborative\, Inc./Equisolve Calendar v1.0//EN
METHOD:PUBLISH
BEGIN:VEVENT
UID:113ad1389d0d3e960ecd84fc2be104c9
DTSTAMP:20260425T131014Z
DTSTART:20260507T210000Z
DTEND:20260507T220000Z
SUMMARY:First Quarter 2026 Earnings Conference Call
DESCRIPTION:First Quarter 2026 Earnings Conference Call
Date: May 7\, 2026 5:00 pm EDT
Webcast: https://event.choruscall.com/mediaframe/webcast.html?webcastid=PUkHGpnz
END:VEVENT
END:VCALENDAR
